BEGIN:VCALENDAR
VERSION:2.0
PRODID:-//Tukios.com/
BEGIN:VEVENT
UID:e0de3f24-e054-4988-bc34-e353ebdddfb3@www.nblfuneralchapel.com
DTSTAMP:20260421T170456Z
DTSTART:20260424T160000Z
DTEND:20260424T170000Z
SUMMARY:Funeral Service
DESCRIPTION:
URL:https://www.nblfuneralchapel.com/obituaries/ruby-houtchens
LOCATION:LeRette Funeral Chapel 525 Ratliff Road  Red Oak IA 51566
GEO:41.030696;-95.223436
END:VEVENT
END:VCALENDAR