BEGIN:VCALENDAR
VERSION:2.0
PRODID:-//Tukios.com/
BEGIN:VEVENT
UID:12340497-28bf-4dd9-a5f0-5f8e244b7d23@www.nblfuneralchapel.com
DTSTAMP:20260421T170409Z
DTSTART:20260424T150000Z
DTEND:20260424T160000Z
SUMMARY:Visitation
DESCRIPTION:
URL:https://www.nblfuneralchapel.com/obituaries/ruby-houtchens
LOCATION:LeRette Funeral Chapel 525 Ratliff Road  Red Oak IA 51566
GEO:41.030696;-95.223436
END:VEVENT
END:VCALENDAR